BEGIN:VCALENDAR
VERSION:2.0
PRODID:-//THEWOMANBENEATH - ECPv6.15.20//NONSGML v1.0//EN
CALSCALE:GREGORIAN
METHOD:PUBLISH
X-WR-CALNAME:THEWOMANBENEATH
X-ORIGINAL-URL:https://thewomanbeneath.com
X-WR-CALDESC:Events for THEWOMANBENEATH
REFRESH-INTERVAL;VALUE=DURATION:PT1H
X-Robots-Tag:noindex
X-PUBLISHED-TTL:PT1H
BEGIN:VTIMEZONE
TZID:America/Chicago
BEGIN:DAYLIGHT
TZOFFSETFROM:-0600
TZOFFSETTO:-0500
TZNAME:CDT
DTSTART:20250309T080000
END:DAYLIGHT
BEGIN:STANDARD
TZOFFSETFROM:-0500
TZOFFSETTO:-0600
TZNAME:CST
DTSTART:20251102T070000
END:STANDARD
BEGIN:DAYLIGHT
TZOFFSETFROM:-0600
TZOFFSETTO:-0500
TZNAME:CDT
DTSTART:20260308T080000
END:DAYLIGHT
BEGIN:STANDARD
TZOFFSETFROM:-0500
TZOFFSETTO:-0600
TZNAME:CST
DTSTART:20261101T070000
END:STANDARD
BEGIN:DAYLIGHT
TZOFFSETFROM:-0600
TZOFFSETTO:-0500
TZNAME:CDT
DTSTART:20270314T080000
END:DAYLIGHT
BEGIN:STANDARD
TZOFFSETFROM:-0500
TZOFFSETTO:-0600
TZNAME:CST
DTSTART:20271107T070000
END:STANDARD
END:VTIMEZONE
BEGIN:VEVENT
DTSTART;TZID=America/Chicago:20260913T100000
DTEND;TZID=America/Chicago:20260913T130000
DTSTAMP:20260423T062009
CREATED:20260301T205748Z
LAST-MODIFIED:20260301T205748Z
UID:588-1789293600-1789304400@thewomanbeneath.com
SUMMARY:Anna Krupka
DESCRIPTION:The Inner Narrative Women Carry:\nHow internal patterns quietly shape how we see ourselves and the world
URL:https://thewomanbeneath.com/event/anna-krupka/
LOCATION:4738 N Cumberland Ave\,\, Chicago\, IL\, 60656\, United States
CATEGORIES:Upcoming
END:VEVENT
BEGIN:VEVENT
DTSTART;TZID=America/Chicago:20261018T100000
DTEND;TZID=America/Chicago:20261018T130000
DTSTAMP:20260423T062009
CREATED:20260301T205903Z
LAST-MODIFIED:20260301T205903Z
UID:590-1792317600-1792328400@thewomanbeneath.com
SUMMARY:Sandy Daliege
DESCRIPTION:The Light Within – Awaken Your Highest Expression.
URL:https://thewomanbeneath.com/event/sandy-daliege/
LOCATION:4738 N Cumberland Ave\,\, Chicago\, IL\, 60656\, United States
CATEGORIES:Upcoming
END:VEVENT
END:VCALENDAR